BEGIN:VCALENDAR
VERSION:2.0
PRODID:-//ChamberMaster//Event Calendar 2.0//EN
METHOD:PUBLISH
X-PUBLISHED-TTL:P3D
REFRESH-INTERVAL:P3D
CALSCALE:GREGORIAN
BEGIN:VEVENT
DTSTART:20180531T013000Z
DTEND:20180531T033000Z
X-MICROSOFT-CDO-ALLDAYEVENT:FALSE
SUMMARY:Future of Healthcare
DESCRIPTION:The Future of Healthcare program\, sponsored by Stemodontics stem cell banking\, offers students interested in a medical or dental vocation the guidance they need to follow their dreams. Healthcare innovators will mentor students on what it takes to get into their ideal college and how to be successful in their chosen field. High school students\, junior high students\, college students\, and parents are welcome! At 6:30 p.m.\, a panel of medical professionals will host a cutting-edge presentation on technologies and procedures shaping the future of healthcare. Please arrive a few minutes early to get a great seat! After the presentation\, explore and talk to representatives from various medical fields and volunteer organizations that will be in attendance.
X-ALT-DESC;FMTTYPE=text/html:The Future of Healthcare program\, sponsored by Stemodontics stem cell banking\, offers students interested in a medical or dental vocation the guidance they need to follow their dreams. Healthcare innovators will mentor students on what it takes to get into their ideal college and how to be successful in their chosen field. High school students\, junior high students\, college students\, and parents are welcome! At 6:30 p.m.\, a panel of medical professionals will host a cutting-edge presentation on technologies and procedures shaping the future of healthcare. Please arrive a few minutes early to get a great seat! After the presentation\, explore and talk to representatives from various medical fields and volunteer organizations that will be in attendance.
LOCATION:Dominican University Guzman Hall\, Second Floor 50 Acacia Ave San Rafael\, CA 94901
UID:e.1780.1796
SEQUENCE:3
DTSTAMP:20260424T213622Z
URL:http://business.sausalito.org/events/details/future-of-healthcare-1796
END:VEVENT

END:VCALENDAR
