BEGIN:VCALENDAR
VERSION:2.0
PRODID:-//ChamberMaster//Event Calendar 2.0//EN
METHOD:PUBLISH
X-PUBLISHED-TTL:P3D
REFRESH-INTERVAL:P3D
CALSCALE:GREGORIAN
BEGIN:VEVENT
DTSTART:20190420T203000Z
DTEND:20190420T223000Z
X-MICROSOFT-CDO-ALLDAYEVENT:FALSE
SUMMARY:From Wings to Wings
DESCRIPTION:Looking for help identifying a wide variety of non-native plants? Wear comfortable shoes\, bring your binoculars\, and learn about the US Army Corps of Engineers' involvement in the transformation of the former Hamilton Field\, U.S. Army Airbase into 1\,000-acres of wetland restoration. Hike is approximately a 1.5-miles round trip on a fairly easy stretch of the Bay Trail. Meet at the parking lot at the end of Hanger Road at South Hamilton Park in Novato. Rain cancels.
X-ALT-DESC;FMTTYPE=text/html:Looking for help identifying a wide variety of non-native plants? Wear comfortable shoes\, bring your binoculars\, and learn about the US Army Corps of Engineers&#39\; involvement in the transformation of the former Hamilton Field\, U.S. Army Airbase into 1\,000-acres of wetland restoration. Hike is approximately a 1.5-miles round trip on a fairly easy stretch of the Bay Trail. Meet at the parking lot at the end of Hanger Road at South Hamilton Park in Novato. Rain cancels.
LOCATION:Hamilton Field\, U.S. Army Airbase Meet at the parking lot at the end of Hanger Road at South Hamilton Park in Novato.
UID:e.1780.1956
SEQUENCE:3
DTSTAMP:20260423T235053Z
URL:http://business.sausalito.org/events/details/from-wings-to-wings-1956
END:VEVENT

END:VCALENDAR
