BEGIN:VCALENDAR
VERSION:2.0
PRODID:-//ChamberMaster//Event Calendar 2.0//EN
METHOD:PUBLISH
X-PUBLISHED-TTL:P3D
REFRESH-INTERVAL:P3D
CALSCALE:GREGORIAN
BEGIN:VEVENT
DTSTART;VALUE=DATE:20180719
DTEND;VALUE=DATE:20180723
TRANSP:TRANSPARENT
X-MICROSOFT-CDO-ALLDAYEVENT:TRUE
SUMMARY:Flynn Creek Circus Thursday - Sunday
DESCRIPTION:A D R I F T\n\nJ U L Y  19 - 2 2 \,  2 0 1 8\n\nM A R I N S H I P  P A R K  *  S A U S A L I T O\n\n\nA hilarious Circus Odyssey filled with incredible stunts and surprising twists.  \n\nFlynn Creek Circus is back with an all new\, better than ever show for 2018.  This year's show features huge acrobatics like never before!  International award winning aerialists\, acrobats\, jugglers and more weave an extraordinary story while displaying tremendous skill mastery. Appropriate for all ages.  Charming\, quirky and unforgettable\, this show promises to please!  To learn more about the 2018 cast visit flynncreekcircus.com.\n\nFlynn Creek Circus is an all-human production.\n\n\n"Inside the red and white big top with its raised central stage there is the thrill and excitement\, humor and amazing feats of acrobatic daring as the seasoned performers of the Flynn Creek Circus showed their artistry in a carefully choreographed show.."-St. Helena Star\n\n\nShowtimes:\n\n\n	Thursday\, July 19 at 7pm - Opening night special\, all tickets $22/adults\, $11/kids\, no front row reserve!\n	Friday\, July 20 at 7pm - Adults only version 21+ with no host beer and wine bar\n	Saturday\, July 21 at 3pm\n	Saturday\, July 21 at 7pm \n	Sunday\, July 22 at 1pm - Family day Special\, all kids 1/2 price with adult ticket purchase! (Does not apply to VIP Front Row\, for advance ticket purchase only\, offer expires July 18\, 2018).\n	Sunday\, July 22 at 4pm
X-ALT-DESC;FMTTYPE=text/html:<div class="label-align form-width">\n<p class="text-center"><span style="font-family:arial\;"><span style="color: rgb(255\, 255\, 255)\;"><span style="font-size: 36px\;"><span style="color: rgb(255\, 230\, 148)\;">A D R I F T</span></span></span></span></p>\n\n<p class="text-center"><span style="font-family:arial\;"><span style="font-size: 16px\;">J U L Y&nbsp\; 19 - 2 2 \,&nbsp\; 2 0 1 8</span></span></p>\n\n<p class="text-center"><span style="font-family:arial\;"><span style="font-size: 16px\;">M A R I N S H I P&nbsp\; P A R K&nbsp\; *&nbsp\; S A U S A L I T O</span></span></p>\n</div>\n\n<p><span style="font-family:arial\;">A hilarious Circus Odyssey filled with incredible stunts and surprising twists.&nbsp\;&nbsp\;</span></p>\n\n<p><span style="font-family:arial\;">Flynn Creek Circus is back with an all new\, better than ever show for 2018.&nbsp\; This year&#39\;s show features huge acrobatics like never before!&nbsp\; International award winning aerialists\, acrobats\, jugglers and more weave an extraordinary story while displaying tremendous skill mastery. Appropriate for all ages.&nbsp\; Charming\, quirky and unforgettable\, this show promises to please!&nbsp\; To learn more about the 2018 cast visit flynncreekcircus.com.</span></p>\n\n<p><span style="font-family:arial\;">Flynn Creek Circus is an all-human production.</span></p>\n\n<hr />\n<p><span style="font-family:arial\;"><strong><em><span style="color: rgb(192\, 80\, 77)\;">&quot\;Inside the red and white big top with its raised central stage there is the thrill and excitement\, humor and amazing feats of acrobatic daring as the seasoned performers of the Flynn Creek Circus showed their artistry in a carefully choreographed show..&quot\;-</span></em><em><span style="color: rgb(192\, 80\, 77)\;">St. Helena Star</span></em></strong></span></p>\n\n<hr />\n<p><span style="font-family:arial\;"><strong><span style="font-size: 18px\;">Showtimes:</span></strong></span></p>\n\n<ul>\n	<li><span style="font-family:arial\;"><strong>Thursday\, July 19 at 7pm </strong>-&nbsp\;<em><span style="font-size: 14px\;">Opening night special\, all tickets $22/adults\, $11/kids\, no front row reserve!</span></em></span></li>\n	<li><span style="font-family:arial\;"><strong>Friday\, July 20 at 7pm </strong>-&nbsp\;<em><span style="font-size: 14px\;">Adults only version 21+ with no host beer and wine bar</span></em></span></li>\n	<li><span style="font-family:arial\;"><strong>Saturday\, July 21 at 3pm</strong></span></li>\n	<li><span style="font-family:arial\;"><strong>Saturday\, July 21 at 7pm</strong>&nbsp\;</span></li>\n	<li><span style="font-family:arial\;"><strong>Sunday\, July 22 at 1pm</strong> - <em><span style="font-size: 14px\;">Family day Special\, all kids 1/2 price with adult ticket purchase! (Does not apply to VIP Front Row\, <strong><em>for advance ticket purchase only\, offer expires July 18\, 2018)</em></strong>.</span></em></span></li>\n	<li><span style="font-family:arial\;"><strong>Sunday\, July 22 at 4pm</strong></span></li>\n</ul>\n
LOCATION:Marinship Park Marinship Way and Testa St\, Sausalito\, CA 94965 US Directions: Google\, Bing\, MapQuest
UID:e.1780.1830
SEQUENCE:3
DTSTAMP:20260424T162042Z
URL:http://business.sausalito.org/events/details/flynn-creek-circus-thursday-sunday-1830
END:VEVENT

END:VCALENDAR
