BEGIN:VCALENDAR
VERSION:2.0
PRODID:-//ChamberMaster//Event Calendar 2.0//EN
METHOD:PUBLISH
X-PUBLISHED-TTL:P3D
REFRESH-INTERVAL:P3D
CALSCALE:GREGORIAN
BEGIN:VEVENT
DTSTART;VALUE=DATE:20190725
DTEND;VALUE=DATE:20190729
TRANSP:TRANSPARENT
X-MICROSOFT-CDO-ALLDAYEVENT:TRUE
SUMMARY:Flynn Creek Circus
DESCRIPTION:Flynn Creek Circus presents\n\n'Out of Hat' \n\nFlynn Creek Circus is an all-human spectacle\n\n\nDown the rabbit hole we go with Amelia Van Brunt as the magician's rabbit...Join us for an original comic tale told from the rabbit's perspective as she explores the physics of magic and the magic of physics.\n\n\n\nRevolutionist bunnies\, a sinister magician\, a two headed girl and animal control agents collide in a hilarious quest to get the rabbit back in the hat. Fundamentally\, Flynn Creek Circus' 2019 show\, 'Out of Hat' is  just a flimsy plot line built to deliver explosively entertaining acrobatics\, aerial stunts and feats of skill that require decades of passionate dedication.\n\n\n\nIn true Flynn Creek Circus style\, 'Out of Hat'  is charmingly self aware\, raw\, edgy\, sometimes profound  and yet entirely family friendly (except that adult showing). Don't let the vintage (aka rough) exterior fool you.  'Out of Hat' brings Internationally award winning performers to an intimate setting for a truly authentic theater experience. This year's show features  Kris and Harrison Kremo from Switzerland. These world famous 'gentlemen jugglers' (if you don't believe us\,  google them!) will charm your socks off....speaking of  'off'... Las Vegas acrobatic troupe\, Off Axis\, will return with an  all new\, jaw dropping act for 2019.\n\n\n\nNo host bar available at all showings.  Proceeds benefit Circus Mentors Inc 501c3.
X-ALT-DESC;FMTTYPE=text/html:<div>\n<p style="text-align: center\;"><br />\n<strong>Flynn Creek Circus presents</strong></p>\n\n<h2 style="text-align: center\;"><strong>&#39\;Out of Hat&#39\;&nbsp\;</strong></h2>\n\n<p style="text-align: center\;"><em>Flynn Creek Circus is an all-human spectacle</em></p>\n<br />\nDown the rabbit hole we go with Amelia Van Brunt as the magician&#39\;s rabbit...Join us for an original comic tale told from the rabbit&#39\;s perspective as she explores the physics of magic and the magic of physics.<br />\n<br />\nRevolutionist bunnies\, a sinister magician\, a two headed girl and animal control agents collide in a hilarious quest to get the rabbit back in the hat. Fundamentally\, Flynn Creek Circus&#39\; 2019 show\, <em>&#39\;Out of Hat&#39\;</em> is &nbsp\;just a flimsy plot line built to deliver explosively entertaining acrobatics\, aerial stunts and feats of skill that require decades of passionate dedication.<br />\n<br />\nIn true Flynn Creek Circus style\, <strong>&#39\;</strong><em>Out of Hat&#39\;</em>&nbsp\; is charmingly self aware\, raw\, edgy\, sometimes profound &nbsp\;and yet entirely family friendly (except that adult showing). Don&#39\;t let the vintage (aka rough) exterior fool you. &nbsp\;&#39\;<em>Out of Hat&#39\;</em> brings Internationally award winning performers to an intimate setting for a truly authentic theater experience. This year&#39\;s show features &nbsp\;Kris and Harrison Kremo from Switzerland. These world famous &#39\;gentlemen jugglers&#39\; (if you don&#39\;t believe us\, &nbsp\;google them!) will charm your socks off....speaking of &nbsp\;&#39\;off&#39\;... Las Vegas acrobatic troupe\, Off Axis\, will return with an &nbsp\;all new\, jaw dropping act for 2019.<br />\n<br />\n<strong>No host bar available at all showings</strong>. &nbsp\;Proceeds benefit&nbsp\;<a href="http://circusmentors.org" rel="noopener noreferrer" target="_blank">Circus Mentors Inc 501c3.</a></div>\n
LOCATION:Marinship Park\, Sausalito Under the Big Top Tent
UID:e.1780.2013
SEQUENCE:3
DTSTAMP:20260423T184434Z
URL:http://business.sausalito.org/events/details/flynn-creek-circus-2013
END:VEVENT

END:VCALENDAR
