BEGIN:VCALENDAR
VERSION:2.0
PRODID:-//ChamberMaster//Event Calendar 2.0//EN
METHOD:PUBLISH
X-PUBLISHED-TTL:P3D
REFRESH-INTERVAL:P3D
CALSCALE:GREGORIAN
BEGIN:VEVENT
DTSTART:20190914T180000Z
DTEND:20190914T230000Z
X-MICROSOFT-CDO-ALLDAYEVENT:FALSE
SUMMARY:Floating Homes Tour
DESCRIPTION:Floating Homes Tour Returns Sept. 14\n\nSausalito's colorful floating homes community returns! At least a dozen homes will be open\, ranging in styles from funky to palatial\, including two new homes on Liberty Dock. Most will be docented by the homeowners\, who will be happy to answer questions about their unique waterfront lifestyle. This years tour will be centered in the new\, award-winning park in Waldo Point Harbor. Prepaid registration is highly recommended. Volunteers needed.
X-ALT-DESC;FMTTYPE=text/html:<p><strong>Floating Homes Tour Returns Sept. 14</strong></p>\n\n<p>Sausalito&rsquo\;s colorful floating homes community returns! At least a dozen homes will be open\, ranging in styles from funky to palatial\, including two new homes on Liberty Dock. Most will be docented by the homeowners\, who will be happy to answer questions about their unique waterfront lifestyle. This years tour will be centered in the new\, award-winning park in Waldo Point Harbor. <a href="http://floatinghomes.org/visiting-and-tours/tour-information/">Prepaid registration is highly recommended. Volunteers needed</a>.</p>\n
LOCATION:Waldo Point Harbor Gate 6 Road Sausalito\, CA 94965
UID:e.1780.2002
SEQUENCE:3
DTSTAMP:20260423T153930Z
URL:http://business.sausalito.org/events/details/floating-homes-tour-2002
END:VEVENT

END:VCALENDAR
