BEGIN:VCALENDAR
VERSION:2.0
PRODID:-//ChamberMaster//Event Calendar 2.0//EN
METHOD:PUBLISH
X-PUBLISHED-TTL:P3D
REFRESH-INTERVAL:P3D
CALSCALE:GREGORIAN
BEGIN:VEVENT
DTSTART:20210726T180000Z
DTEND:20210726T230000Z
X-MICROSOFT-CDO-ALLDAYEVENT:FALSE
SUMMARY:Fire & Ice Trunk Show - Sausalito Visitor Center
DESCRIPTION:North Bay Candleworks & Katya Fused Glass Jewelry will be featured in our first Monday Trunk Show at the Sausalito Visitor Center.  Enjoy meeting the creators.  North Bay Candles will have a One Day Special\, Buy Two Candles and receive one FREE.  Katya Fused Glass is offering 15% off all purchases during the event.
X-ALT-DESC;FMTTYPE=text/html:North Bay Candleworks &amp\; Katya Fused Glass Jewelry will be featured in our first Monday Trunk Show at the Sausalito Visitor Center.&nbsp\; Enjoy meeting the creators.&nbsp\; North Bay Candles will have a One Day Special\, Buy Two Candles and receive one FREE.&nbsp\; Katya Fused Glass is offering 15% off all purchases during the event.
LOCATION:22 El Portal\, Sausalito
UID:e.1780.2839
SEQUENCE:3
DTSTAMP:20260422T054549Z
URL:http://business.sausalito.org/events/details/fire-ice-trunk-show-sausalito-visitor-center-2839
END:VEVENT

END:VCALENDAR
