BEGIN:VCALENDAR
VERSION:2.0
PRODID:-//ChamberMaster//Event Calendar 2.0//EN
METHOD:PUBLISH
X-PUBLISHED-TTL:P3D
REFRESH-INTERVAL:P3D
CALSCALE:GREGORIAN
BEGIN:VEVENT
DTSTART:20200625T160000Z
DTEND:20200625T170000Z
X-MICROSOFT-CDO-ALLDAYEVENT:FALSE
SUMMARY:eBay\, Etsy & Other On-line Platforms
DESCRIPTION:Chamber Members are invited to register for our on-line selling class.  This will be our 6th\, Zoom Class to provide tips & ideas for selling on-line.  It will give a chance to those who've had success stories to share and answer questions.  Receive updates and tools to help you with your business.
X-ALT-DESC;FMTTYPE=text/html:Chamber Members are invited to register for our on-line selling class.&nbsp\; This will be our 6th\, Zoom Class to provide tips &amp\; ideas for selling on-line.&nbsp\; It will give a chance to those who&#39\;ve had success stories to share and answer questions.&nbsp\; Receive updates and tools to help you with your business.
LOCATION:Hi there\, You are invited to a Zoom meeting. When: Jun 25\, 2020 09:00 AM Pacific Time (US and Canada) Register in advance for this meeting: https://us02web.zoom.us/meeting/register/tZIpc-yhqj4iGd1or6CjnLwx7cBokFDqs-s8 After registering\, you will receive a confirmation email containing information about joining the meeting.
UID:e.1780.2411
SEQUENCE:3
DTSTAMP:20260423T024916Z
URL:http://business.sausalito.org/events/details/ebay-etsy-other-on-line-platforms-2411
END:VEVENT

END:VCALENDAR
