BEGIN:VCALENDAR
VERSION:2.0
PRODID:-//ChamberMaster//Event Calendar 2.0//EN
METHOD:PUBLISH
X-PUBLISHED-TTL:P3D
REFRESH-INTERVAL:P3D
CALSCALE:GREGORIAN
BEGIN:VEVENT
DTSTART:20190420T170000Z
DTEND:20190420T190000Z
X-MICROSOFT-CDO-ALLDAYEVENT:FALSE
SUMMARY:Easter Egg Parade and Hunt
DESCRIPTION:Once again the Easter Bunny will be hopping into Sausalito so get ready for our 39th Annual Easter Egg Hunt and Parade! The Easter Bunny is leading the Easter Parade that starts at 10:00 a.m. sharp at the corner of Johnson and Caledonia Street in front of the public safety buildings. The parade will end at Robin Sweeny Park where the Easter Egg Hunt will start at 10:10 a.m. This year there will be three rounds of egg hunts this year. Round one 6-9 year olds\, round two 3-5 year olds\, and round three 0-2 year olds. Followed by live music from Tim Cain and then our famous Easter Bonnet Contest judged by members of the Sausalito Woman's Club. So put on your bright smiles and your craziest\, creative and beautiful Easter bonnets\, and we'll see you rain or shine.
X-ALT-DESC;FMTTYPE=text/html:Once again the Easter Bunny will be hopping into Sausalito so get ready for our 39th Annual Easter Egg Hunt and Parade! The Easter Bunny is leading the Easter Parade that starts at 10:00 a.m. sharp at the corner of Johnson and Caledonia Street in front of the public safety buildings. The parade will end at Robin Sweeny Park where the Easter Egg Hunt will start at 10:10 a.m. This year there will be three rounds of egg hunts this year. Round one 6-9 year olds\, round two 3-5 year olds\, and round three 0-2 year olds. Followed by live music from Tim Cain and then our famous Easter Bonnet Contest judged by members of the Sausalito Woman&rsquo\;s Club. So put on your bright smiles and your craziest\, creative and beautiful Easter bonnets\, and we&rsquo\;ll see you rain or shine.
LOCATION:Caledonia Street and Robin Sweeny Park
UID:e.1780.1922
SEQUENCE:3
DTSTAMP:20260423T234758Z
URL:http://business.sausalito.org/events/details/easter-egg-parade-and-hunt-1922
END:VEVENT

END:VCALENDAR
