BEGIN:VCALENDAR
VERSION:2.0
PRODID:-//ChamberMaster//Event Calendar 2.0//EN
METHOD:PUBLISH
X-PUBLISHED-TTL:P3D
REFRESH-INTERVAL:P3D
CALSCALE:GREGORIAN
BEGIN:VEVENT
DTSTART:20190615T200000Z
DTEND:20190615T220000Z
X-MICROSOFT-CDO-ALLDAYEVENT:FALSE
SUMMARY:Earth\, Water\, Paint - Artist Reception
DESCRIPTION:Toni Littlejohn is a mixed media artist living and working in Point Reyes Station. She has exhibited her work extensively in the Bay Area and is a founding member of Gallery Route One. For 26 years she has been leading Wild Carrots\, an arts workshop for artists and people new to making art. Exhibition Dates June 11- July 20\, 2019 Reception: Sat\, June 15\, 1pm 3pm
X-ALT-DESC;FMTTYPE=text/html:Toni Littlejohn is a mixed media artist living and working in Point Reyes Station. She has exhibited her work extensively in the Bay Area and is a founding member of Gallery Route One. For 26 years she has been leading Wild Carrots\, an arts workshop for artists and people new to making art. Exhibition Dates June 11- July 20\, 2019 Reception: Sat\, June 15\, 1pm&ndash\;3pm
LOCATION:Bay Model Visitor Center 2100 Bridgeway Sausalito\, CA 94965 415-332-3871
UID:e.1780.1991
SEQUENCE:3
DTSTAMP:20260423T203528Z
URL:http://business.sausalito.org/events/details/earth-water-paint-artist-reception-1991
END:VEVENT

END:VCALENDAR
