BEGIN:VCALENDAR
VERSION:2.0
PRODID:-//ChamberMaster//Event Calendar 2.0//EN
METHOD:PUBLISH
X-PUBLISHED-TTL:P3D
REFRESH-INTERVAL:P3D
CALSCALE:GREGORIAN
BEGIN:VEVENT
DTSTART:20180422T160000Z
DTEND:20180422T210000Z
X-MICROSOFT-CDO-ALLDAYEVENT:FALSE
SUMMARY:Earth Day 94965
DESCRIPTION:EARTH DAY 94965\n\nThe Community Enhancement Committee is sponsoring a "clean up" day in partnership with the city\, local schools and other non-profits. Join us for a few hours to beautify our community. RSVP by 4/15 to Teri Lang or Kathleen Maher
X-ALT-DESC;FMTTYPE=text/html:<p>EARTH DAY 94965</p>\n\n<p>The Community Enhancement Committee is sponsoring a &ldquo\;clean up&rdquo\; day in partnership with the city\, local schools and other non-profits. Join us for a few hours to beautify our community. RSVP by 4/15 to Teri Lang or Kathleen Maher</p>\n
LOCATION:Earth Day 94965 is being organized by the Community Enhancement Committee of the Sausalito Woman's Club. Our mission is to organize residents to clean up around 94965 on Earth Day 2018. We are interested in partnering with local organizations\, non-profits\, and schools in a effort to cross pollinate and get to know each other better as well as take pride in our community. If your organization would like to be an educational partner at the appreciation lunch or a clean up partner on the ground\, please contact us at: earthday94965@gmail.com
UID:e.1780.1787
SEQUENCE:3
DTSTAMP:20260424T213313Z
URL:http://business.sausalito.org/events/details/earth-day-94965-1787
END:VEVENT

END:VCALENDAR
