BEGIN:VCALENDAR
VERSION:2.0
PRODID:-//ChamberMaster//Event Calendar 2.0//EN
METHOD:PUBLISH
X-PUBLISHED-TTL:P3D
REFRESH-INTERVAL:P3D
CALSCALE:GREGORIAN
BEGIN:VEVENT
DTSTART:20201101T010000Z
DTEND:20201101T050000Z
X-MICROSOFT-CDO-ALLDAYEVENT:FALSE
SUMMARY:Drive In Movie Night
DESCRIPTION:Halloween Drive-In Movie Night\nSausalito Parks and Recreation is teaming up with Felicia Gaston's Performing Stars and the Sausalito Marin City School District on a free Drive-In Movie Night on Saturday\, October 31. Attendance is limited to residents of the 94965 area.\n\n\n\nTwo movies will be shown on a 38-foot screen at the ball field in Marin City\, beginning at 6:00 p.m. with Black Panther (2018\, 134 minutes) and followed by Get on Up (2014\, 139 minutes). Both films star Chadwick Boseman and are rated PG-13. The audio track will be available via FM radio. \n\n \n\n\n	Time will be allowed for vehicles to depart after the first movie.\n	Access to the ball field is via the 500 block of Drake Avenue.\n	Snacks will be provided for kids\, including hot dogs\, hamburgers\, chips\, popcorn\, candy apples\, candy\, and water.\n	Social distancing and masks are required whenever family members leave their vehicles.\n\n\nAny questions about Drive-In Movie Night may be directed to (415) 332-8316 or performingstars@sbcglobal.net.
X-ALT-DESC;FMTTYPE=text/html:<h2 class="detail-title">Halloween Drive-In Movie Night</h2>\nSausalito Parks and Recreation is teaming up with Felicia Gaston&#39\;s Performing Stars and the Sausalito Marin City School District on a free <strong>Drive-In Movie Night</strong> on Saturday\, October 31. <u>Attendance is limited to residents of the 94965 area.</u>\n\n<div class="detail-content"><br />\nTwo movies will be shown on a 38-foot screen at the <a href="https://www.bing.com/maps?osid=1a861d8c-6f17-4f2a-b435-27f49c1917cc&amp\;cp=37.871756~-122.512578&amp\;lvl=18&amp\;style=h&amp\;v=2&amp\;sV=2&amp\;form=S00027" target="_blank">ball field in Marin City</a>\, beginning at 6:00 p.m. with <a href="https://www.imdb.com/title/tt1825683/" target="_blank"><em>Black Panther</em></a> (2018\, 134 minutes) and followed by <a href="https://www.imdb.com/title/tt2473602/?ref_=nm_flmg_act_13" target="_blank"><em>Get on Up</em></a> (2014\, 139 minutes). Both films star Chadwick Boseman and are rated PG-13. The audio track will be available via FM radio.&nbsp\;</div>\n\n<div class="detail-content">&nbsp\;</div>\n\n<ul>\n	<li class="detail-content">Time will be allowed for vehicles to depart after the first movie.</li>\n	<li class="detail-content">Access to the ball field is via the 500 block of Drake Avenue.</li>\n	<li class="detail-content">Snacks will be provided for kids\, including hot dogs\, hamburgers\, chips\, popcorn\, candy apples\, candy\, and water.</li>\n	<li class="detail-content">Social distancing and masks are required whenever family members leave their vehicles.</li>\n</ul>\n\n<div class="detail-content">Any questions about Drive-In Movie Night may be directed to (415) 332-8316 or performingstars@sbcglobal.net.</div>\n
LOCATION:VIEW A MAP SHOWING THE LOCATION OF THE BALL FIELD IN MARIN CITY. MORE ABOUT PERFORMING STARS
UID:e.1780.2799
SEQUENCE:3
DTSTAMP:20260422T222231Z
URL:http://business.sausalito.org/events/details/drive-in-movie-night-2799
END:VEVENT

END:VCALENDAR
