BEGIN:VCALENDAR
VERSION:2.0
PRODID:-//ChamberMaster//Event Calendar 2.0//EN
METHOD:PUBLISH
X-PUBLISHED-TTL:P3D
REFRESH-INTERVAL:P3D
CALSCALE:GREGORIAN
BEGIN:VEVENT
DTSTART:20200227T163000Z
DTEND:20200227T180000Z
X-MICROSOFT-CDO-ALLDAYEVENT:FALSE
SUMMARY:Draft Land Economics Study of Sausalito
DESCRIPTION:Come listen to the draft presentation of this study and the ideas for Sausalito going forward.  Everyone is welcome
X-ALT-DESC;FMTTYPE=text/html:Come listen to the draft presentation of this study and the ideas for Sausalito going forward.&nbsp\; Everyone is welcome
LOCATION:City Hall - Council Chamber - 420 Litho Street
UID:e.1780.2364
SEQUENCE:3
DTSTAMP:20260423T082332Z
URL:http://business.sausalito.org/events/details/draft-land-economics-study-of-sausalito-2364
END:VEVENT

END:VCALENDAR
