BEGIN:VCALENDAR
VERSION:2.0
PRODID:-//ChamberMaster//Event Calendar 2.0//EN
METHOD:PUBLISH
X-PUBLISHED-TTL:P3D
REFRESH-INTERVAL:P3D
CALSCALE:GREGORIAN
BEGIN:VEVENT
DTSTART:20181214T000000Z
DTEND:20181214T040000Z
X-MICROSOFT-CDO-ALLDAYEVENT:FALSE
SUMMARY:Downtown Open House & Late Night Shopping
DESCRIPTION:Downtown Open House & Late Night Shopping
X-ALT-DESC;FMTTYPE=text/html:<div style="text-align: center\;"><strong>Downtown Open House &amp\; Late Night Shopping</strong></div>\n
LOCATION:Merchants open late downtown for Holiday Shopping. Watch for details!
UID:e.1780.1864
SEQUENCE:3
DTSTAMP:20260424T085923Z
URL:http://business.sausalito.org/events/details/downtown-open-house-late-night-shopping-1864
END:VEVENT

END:VCALENDAR
