BEGIN:VCALENDAR
VERSION:2.0
PRODID:-//ChamberMaster//Event Calendar 2.0//EN
METHOD:PUBLISH
X-PUBLISHED-TTL:P3D
REFRESH-INTERVAL:P3D
CALSCALE:GREGORIAN
BEGIN:VEVENT
DTSTART:20180726T003000Z
DTEND:20180726T023000Z
X-MICROSOFT-CDO-ALLDAYEVENT:FALSE
SUMMARY:County Wide Chamber Mixer
DESCRIPTION:Come meet hundreds of businesses members and community organizations from throughout the county that you need to grow your network   all in just one place!\n\n\n\n* Admission: $5 for members\; $20 non-members No RSVP necessary\, pay at the door Cash & Checks Only
X-ALT-DESC;FMTTYPE=text/html:<span class="_4n-j _3cht fsl" data-testid="event-permalink-details">Come meet hundreds of businesses members and community organizations from throughout the county that you need to grow your network &hellip\; all in just one place!<br />\n<br />\n* Admission: $5 for members\; $20 non-members No RSVP necessary\, pay at the door Cash &amp\; Checks Only</span><br />\n&nbsp\;
LOCATION:Peacock Gap Golf Club 333 Biscayne Dr San Rafael\, California
UID:e.1780.1790
SEQUENCE:3
DTSTAMP:20260424T162041Z
URL:http://business.sausalito.org/events/details/county-wide-chamber-mixer-1790
END:VEVENT

END:VCALENDAR
