BEGIN:VCALENDAR
VERSION:2.0
PRODID:-//ChamberMaster//Event Calendar 2.0//EN
METHOD:PUBLISH
X-PUBLISHED-TTL:P3D
REFRESH-INTERVAL:P3D
CALSCALE:GREGORIAN
BEGIN:VEVENT
DTSTART:20201211T020000Z
DTEND:20201211T033000Z
X-MICROSOFT-CDO-ALLDAYEVENT:FALSE
SUMMARY:Couch Shopping - Take Two
DESCRIPTION:Back by popular request\, we are doing our second Couch Shopping event.  Featuring local Small Businesses\, so sit back and relax - shop from home and support local.  Please register via Eventbrite https://bit.ly/3kMEOek
X-ALT-DESC;FMTTYPE=text/html:Back by popular request\, we are doing our second Couch Shopping event.&nbsp\; Featuring local Small Businesses\, so sit back and relax - shop from home and support local.&nbsp\; Please register via Eventbrite&nbsp\;https://bit.ly/3kMEOek&nbsp\;
LOCATION:Your own home - merchants will make arrangements with everyone for delivery\, shipping or pick-up.
UID:e.1780.2802
SEQUENCE:3
DTSTAMP:20260422T174907Z
URL:http://business.sausalito.org/events/details/couch-shopping-take-two-2802
END:VEVENT

END:VCALENDAR
