BEGIN:VCALENDAR
VERSION:2.0
PRODID:-//ChamberMaster//Event Calendar 2.0//EN
METHOD:PUBLISH
X-PUBLISHED-TTL:P3D
REFRESH-INTERVAL:P3D
CALSCALE:GREGORIAN
BEGIN:VEVENT
DTSTART;VALUE=DATE:20190522
DTEND;VALUE=DATE:20190523
TRANSP:TRANSPARENT
X-MICROSOFT-CDO-ALLDAYEVENT:TRUE
SUMMARY:Concierge Tour 2019
DESCRIPTION:ART INFUSED\n\nThis years tour will focus on Artists\, Art Galleries and Art Inspired places to visit.\n\nThe Concierge Tour is conducted by the Chamber to bring concierges from all over the Bay Area to educate them on what Sausalito has to offer those staying in their hotels.
X-ALT-DESC;FMTTYPE=text/html:<h1 style="text-align: center\;">ART INFUSED</h1>\n\n<p style="text-align: center\;">This years tour will focus on Artists\, Art Galleries and Art Inspired places to visit.</p>\n\n<p style="text-align: center\;">The Concierge Tour is conducted by the Chamber to bring concierges from all over the Bay Area to educate them on what Sausalito has to offer those staying in their hotels.</p>\n
LOCATION:During the tour we will visit: ICB Artists Issaquah Dock Houseboats This year we will be ending the tour at The Spinnaker for a reception\, where we would like to invite you to display some of your works of art.
UID:e.1780.1992
SEQUENCE:3
DTSTAMP:20260423T221011Z
URL:http://business.sausalito.org/events/details/concierge-tour-2019-1992
END:VEVENT

END:VCALENDAR
