BEGIN:VCALENDAR
VERSION:2.0
PRODID:-//ChamberMaster//Event Calendar 2.0//EN
METHOD:PUBLISH
X-PUBLISHED-TTL:P3D
REFRESH-INTERVAL:P3D
CALSCALE:GREGORIAN
BEGIN:VEVENT
DTSTART:20200604T160000Z
DTEND:20200604T170000Z
X-MICROSOFT-CDO-ALLDAYEVENT:FALSE
SUMMARY:Community Update Current Phase & Next Phase
DESCRIPTION:City & County Update Current & Next Phase for Businesses & the Community
X-ALT-DESC;FMTTYPE=text/html:City &amp\; County Update Current &amp\; Next Phase for Businesses &amp\; the Community
LOCATION:Juli Vieira is inviting you to a scheduled Zoom meeting. Topic: City Update Current & Next Phase for Businesses Time: Jun 4\, 2020 09:00 AM Pacific Time (US and Canada) Join Zoom Meeting https://us02web.zoom.us/j/89872932016?pwd=ZldicCtTd28vSERPc1A0UG82dHhodz09 Meeting ID: 898 7293 2016 Password: 105847 Dial by your location +1 669 900 6833 US (San Jose) +1 253 215 8782 US (Tacoma)
UID:e.1780.2406
SEQUENCE:3
DTSTAMP:20260423T024022Z
URL:http://business.sausalito.org/events/details/community-update-current-phase-next-phase-2406
END:VEVENT

END:VCALENDAR
