BEGIN:VCALENDAR
VERSION:2.0
PRODID:-//ChamberMaster//Event Calendar 2.0//EN
METHOD:PUBLISH
X-PUBLISHED-TTL:P3D
REFRESH-INTERVAL:P3D
CALSCALE:GREGORIAN
BEGIN:VEVENT
DTSTART:20200902T153000Z
DTEND:20200902T163000Z
X-MICROSOFT-CDO-ALLDAYEVENT:FALSE
SUMMARY:Collaboration - How it Will Help My Business
DESCRIPTION:Collaboration is the next step in pivoting your business via the COVID impact.  Sausalito Chamber businesses who are interested in collaborations join us for a roundtable workshop in coming up with some ideas for collaborating with other members.
X-ALT-DESC;FMTTYPE=text/html:Collaboration is the next step in pivoting your business via the COVID impact.&nbsp\; Sausalito Chamber businesses who are interested in collaborations join us for a roundtable workshop in coming up with some ideas for collaborating with other members.&nbsp\;
LOCATION:Topic: Collaborations - What Do They Look Like Time: Sep 2\, 2020 08:30 - 9:30 AM Pacific Time (US and Canada) Join Zoom Meeting https://us02web.zoom.us/j/88597021385?pwd=UEFvMTFETFBYbjM4bE1ENVZkYWlOQT09 Meeting ID: 885 9702 1385 Passcode: 385884 One tap mobile +16699006833\,\,88597021385#\,\,\,\,\,\,0#\,\,385884# US (San Jose) Dial by your location +1 669 900 6833 US (San Jose)
UID:e.1780.2493
SEQUENCE:3
DTSTAMP:20260422T222633Z
URL:http://business.sausalito.org/events/details/collaboration-how-it-will-help-my-business-2493
END:VEVENT

END:VCALENDAR
