BEGIN:VCALENDAR
VERSION:2.0
PRODID:-//ChamberMaster//Event Calendar 2.0//EN
METHOD:PUBLISH
X-PUBLISHED-TTL:P3D
REFRESH-INTERVAL:P3D
CALSCALE:GREGORIAN
BEGIN:VEVENT
DTSTART:20200603T043000Z
DTEND:20200603T053000Z
X-MICROSOFT-CDO-ALLDAYEVENT:FALSE
SUMMARY:Coffee & Conversation Morning Mixer
DESCRIPTION:Coffee & Conversation Morning Mixer.  Let's check in with each other.  How can we help?  What businesses are open?  How can I purchase a gift?  It's a chance to share information.
X-ALT-DESC;FMTTYPE=text/html:Coffee &amp\; Conversation Morning Mixer.&nbsp\; Let&#39\;s check in with each other.&nbsp\; How can we help?&nbsp\; What businesses are open?&nbsp\; How can I purchase a gift?&nbsp\; It&#39\;s a chance to share information.
LOCATION:Topic: Coffee & Conversation Morning Mixer Time: Jun 2\, 2020 09:30 AM Pacific Time (US and Canada) Join Zoom Meeting https://us02web.zoom.us/j/84619050806?pwd=NDBFVnZ4VzJGQXF5c2tRTjRnUnFmUT09 Meeting ID: 846 1905 0806 Password: 665694
UID:e.1780.2404
SEQUENCE:3
DTSTAMP:20260423T025013Z
URL:http://business.sausalito.org/events/details/coffee-conversation-morning-mixer-2404
END:VEVENT

END:VCALENDAR
