BEGIN:VCALENDAR
VERSION:2.0
PRODID:-//ChamberMaster//Event Calendar 2.0//EN
METHOD:PUBLISH
X-PUBLISHED-TTL:P3D
REFRESH-INTERVAL:P3D
CALSCALE:GREGORIAN
BEGIN:VEVENT
DTSTART:20200221T030000Z
DTEND:20200221T043000Z
X-MICROSOFT-CDO-ALLDAYEVENT:FALSE
SUMMARY:Climate Action Plan with the Sausalito Sustainability Commission
DESCRIPTION:Members of the Sausalito Sustainability Commission will join us to discuss the goals of the Climate Action Plan\, and their work to help shape the forthcoming Sausalito General Plan. Specific topics will include: Single Use Plastics Ban: how it will impact local businesses when it goes into effect in June 2020.   EV Charging Stations in Sausalito: an update on the Commission's work to bring stations to the city   Recycling/Composting service: Efforts to reach zero waste goals by educating and encouraging local residents and businesses to properly sort materials. Admission is free but space is limited. RSVP at www.driversmarket.com The Sausalito Sustainability Commission is a group of Sausalito residents who advise the City Council on environmental goals\, particularly in the areas of waste reduction\, energy efficiency\, water conservation\, sustainable transportation\, and sea level rise.
X-ALT-DESC;FMTTYPE=text/html:Members of the Sausalito Sustainability Commission will join us to discuss the goals of the Climate Action Plan\, and their work to help shape the forthcoming Sausalito General Plan. Specific topics will include: Single Use Plastics Ban: how it will impact local businesses when it goes into effect in June 2020. &bull\; EV Charging Stations in Sausalito: an update on the Commission&rsquo\;s work to bring stations to the city &bull\; Recycling/Composting service: Efforts to reach zero waste goals by educating and encouraging local residents and businesses to properly sort materials. Admission is free but space is limited. RSVP at www.driversmarket.com The Sausalito Sustainability Commission is a group of Sausalito residents who advise the City Council on environmental goals\, particularly in the areas of waste reduction\, energy efficiency\, water conservation\, sustainable transportation\, and sea level rise.
LOCATION:Driver's Market 200 Caledonia Street Sausalito\, CA 415-729-9582
UID:e.1780.2368
SEQUENCE:3
DTSTAMP:20260423T094905Z
URL:http://business.sausalito.org/events/details/climate-action-plan-with-the-sausalito-sustainability-commission-2368
END:VEVENT

END:VCALENDAR
