BEGIN:VCALENDAR
VERSION:2.0
PRODID:-//ChamberMaster//Event Calendar 2.0//EN
METHOD:PUBLISH
X-PUBLISHED-TTL:P3D
REFRESH-INTERVAL:P3D
CALSCALE:GREGORIAN
BEGIN:VEVENT
DTSTART:20200916T013000Z
DTEND:20200916T030000Z
X-MICROSOFT-CDO-ALLDAYEVENT:FALSE
SUMMARY:City Council Candidate Forum
DESCRIPTION:The Sausalito Chamber will hold a forum to introduce those running for the 3 City Council seats on November 3.  The event will be held via Zoom\, we ask community members to submit questions by September 11th\, to juli@sausalito.org
X-ALT-DESC;FMTTYPE=text/html:The Sausalito Chamber will hold a forum to introduce those running for the 3 City Council seats on November 3.&nbsp\; The event will be held via Zoom\, we ask community members to submit questions by September 11th\, to juli@sausalito.org
LOCATION:Topic: City Council Candidate Forum Time: Sep 15\, 2020 06:30 - 8:00 PM Pacific Time (US and Canada) Join Zoom Meeting https://us02web.zoom.us/j/83014709982?pwd=ZCtSblRZUjdmYmw0bzZHYTJDY0FZZz09 Meeting ID: 830 1470 9982 Passcode: 873075 One tap mobile +16699006833\,\,83014709982#\,\,\,\,\,\,0#\,\,873075# US (San Jose) Dial by your location +1 669 900 6833 US (San Jose)
UID:e.1780.2527
SEQUENCE:3
DTSTAMP:20260422T222743Z
URL:http://business.sausalito.org/events/details/city-council-candidate-forum-2527
END:VEVENT

END:VCALENDAR
