BEGIN:VCALENDAR
VERSION:2.0
PRODID:-//ChamberMaster//Event Calendar 2.0//EN
METHOD:PUBLISH
X-PUBLISHED-TTL:P3D
REFRESH-INTERVAL:P3D
CALSCALE:GREGORIAN
BEGIN:VEVENT
DTSTART:20191226T013000Z
DTEND:20191226T063000Z
X-MICROSOFT-CDO-ALLDAYEVENT:FALSE
SUMMARY:Christmas Dinner at Cavallo Point
DESCRIPTION:Celebrate Christmas at Cavallo Point as Chef Michael Garcia prepares a delectable four-course prix-fixe dinner menu in Murray Circle for families to savor and enjoy. We're offering two seatings at 5:30 and 8:30pm.\n\n\n\nCancellations may be made up to 72 hours prior to the event. Cancellations within 72 hours will incur a charge for the full cost of the event.
X-ALT-DESC;FMTTYPE=text/html:<span style="background-color:rgb(252\, 251\, 247)\; color:rgb(85\, 85\, 85)\; font-family:avenir lt w01_55 roman1475520\,sans-serif\; font-size:16px">Celebrate Christmas&nbsp\;at Cavallo Point as Chef Michael Garcia prepares a delectable four-course prix-fixe dinner menu in Murray Circle for families to savor and enjoy.&nbsp\;We&#39\;re offering two seatings at 5:30 and 8:30pm.</span><br />\n<br />\n<em>Cancellations may be made up to 72 hours prior to the event. Cancellations within 72 hours will incur a charge for the full cost of the event.</em>
LOCATION:Murray Circle Restaurant at Cavallo Point Lodge at the Golden Gate 602 Murray Circle Sausalito\, CA 94965
UID:e.1780.2330
SEQUENCE:3
DTSTAMP:20260423T110752Z
URL:http://business.sausalito.org/events/details/christmas-dinner-at-cavallo-point-2330
END:VEVENT

END:VCALENDAR
