BEGIN:VCALENDAR
VERSION:2.0
PRODID:-//ChamberMaster//Event Calendar 2.0//EN
METHOD:PUBLISH
X-PUBLISHED-TTL:P3D
REFRESH-INTERVAL:P3D
CALSCALE:GREGORIAN
BEGIN:VEVENT
DTSTART;VALUE=DATE:20210909
DTEND;VALUE=DATE:20210910
TRANSP:TRANSPARENT
X-MICROSOFT-CDO-ALLDAYEVENT:TRUE
SUMMARY:Chamber Website Marketing - Free Members Only
DESCRIPTION:LIMITED TO 10 PARTICIPANTS\n\nRegister to learn how to post your upcoming events\, change your business description\, hours and your staff changes.  You can even post job openings.
X-ALT-DESC;FMTTYPE=text/html:LIMITED TO 10 PARTICIPANTS<br />\nRegister to learn how to post your upcoming events\, change your business description\, hours and your staff changes.&nbsp\; You can even post job openings.
LOCATION:This class will be held via Zoom and you must register. You are invited to a Zoom Class. When: Sep 9\, 2021 09:30 AM Pacific Time (US and Canada) Register in advance for this meeting: https://us02web.zoom.us/meeting/register/tZMkduqtrTgqHdOuGVze4eLWkKWB45Vkeczq After registering\, you will receive a confirmation email containing information about joining the meeting.
UID:e.1780.3059
SEQUENCE:3
DTSTAMP:20260422T022341Z
URL:http://business.sausalito.org/events/details/chamber-website-marketing-free-members-only-3059
END:VEVENT

END:VCALENDAR
