BEGIN:VCALENDAR
VERSION:2.0
PRODID:-//ChamberMaster//Event Calendar 2.0//EN
METHOD:PUBLISH
X-PUBLISHED-TTL:P3D
REFRESH-INTERVAL:P3D
CALSCALE:GREGORIAN
BEGIN:VEVENT
DTSTART:20180921T003000Z
DTEND:20180921T023000Z
X-MICROSOFT-CDO-ALLDAYEVENT:FALSE
SUMMARY:Chamber Mixer @ Sausalito Historical Society
DESCRIPTION:Sausalito Chamber Mixer\n\n\n\nVisit the new Sausalito Historical Society Exhibit \n\n\n\n"The Sausalito That Never Was"\n\n\n\n \n\n\n\nFood * Beer * Wine * Raffle
X-ALT-DESC;FMTTYPE=text/html:<div data-contents="true">\n<div data-block="true" data-editor="85ehv" data-offset-key="11pm6-0-0">\n<div class="_1mf _1mj" data-offset-key="11pm6-0-0"><span data-offset-key="11pm6-0-0"><span data-text="true">Sausalito Chamber Mixer</span></span></div>\n</div>\n\n<div data-block="true" data-editor="85ehv" data-offset-key="2qbnj-0-0">\n<div class="_1mf _1mj" data-offset-key="2qbnj-0-0"><span data-offset-key="2qbnj-0-0"><span data-text="true">Visit the new Sausalito Historical Society Exhibit </span></span></div>\n</div>\n\n<div data-block="true" data-editor="85ehv" data-offset-key="6jnde-0-0">\n<div class="_1mf _1mj" data-offset-key="6jnde-0-0"><span data-offset-key="6jnde-0-0"><span data-text="true">&ldquo\;The Sausalito That Never Was&rdquo\;</span></span></div>\n</div>\n\n<div data-block="true" data-editor="85ehv" data-offset-key="1quj1-0-0">\n<div class="_1mf _1mj" data-offset-key="1quj1-0-0">&nbsp\;</div>\n</div>\n\n<div data-block="true" data-editor="85ehv" data-offset-key="8bmbf-0-0">\n<div class="_1mf _1mj" data-offset-key="8bmbf-0-0"><span data-offset-key="8bmbf-0-0"><span data-text="true">Food * Beer * Wine * Raffle</span></span></div>\n</div>\n\n<div data-block="true" data-editor="85ehv" data-offset-key="9bp4g-0-0">\n<div class="_1mf _1mj" data-offset-key="9bp4g-0-0">&nbsp\;</div>\n</div>\n</div>\n
LOCATION:420 Litho Street\, 3rd Floor Sausalito\, CA 94965
UID:e.1780.1837
SEQUENCE:3
DTSTAMP:20260424T132025Z
URL:http://business.sausalito.org/events/details/chamber-mixer-sausalito-historical-society-1837
END:VEVENT

END:VCALENDAR
