BEGIN:VCALENDAR
VERSION:2.0
PRODID:-//ChamberMaster//Event Calendar 2.0//EN
METHOD:PUBLISH
X-PUBLISHED-TTL:P3D
REFRESH-INTERVAL:P3D
CALSCALE:GREGORIAN
BEGIN:VEVENT
DTSTART:20190419T003000Z
DTEND:20190419T023000Z
X-MICROSOFT-CDO-ALLDAYEVENT:FALSE
SUMMARY:Chamber Mixer – Only In Sausalito
DESCRIPTION:April Chamber Mixer will be held at Only in Sausalito.  There are some surprises in store\, so don't miss this fun evening.
X-ALT-DESC;FMTTYPE=text/html:April Chamber Mixer will be held at Only in Sausalito.&nbsp\; There are some surprises in store\, so don&#39\;t miss this fun evening.
LOCATION:Only in Sausalito 684 Bridgeway
UID:e.1780.1944
SEQUENCE:3
DTSTAMP:20260423T234941Z
URL:http://business.sausalito.org/events/details/chamber-mixer-only-in-sausalito-1944
END:VEVENT

END:VCALENDAR
