BEGIN:VCALENDAR
VERSION:2.0
PRODID:-//ChamberMaster//Event Calendar 2.0//EN
METHOD:PUBLISH
X-PUBLISHED-TTL:P3D
REFRESH-INTERVAL:P3D
CALSCALE:GREGORIAN
BEGIN:VEVENT
DTSTART:20181019T003000Z
DTEND:20181019T023000Z
X-MICROSOFT-CDO-ALLDAYEVENT:FALSE
SUMMARY:Chamber Mixer @ Lumina Financial
DESCRIPTION:Join the Sausalito Chamber of Commerce\n\nat the October Mixer\n\nhosted by\n\nLumina Financial Consultants\, LLC\n\n\n\nCome Mix and Mingle\, Network\, Great Raffle prizes!\n\n\n\nAbout Lumina Financial:\n\nLumina Financial Consultants is a boutique wealth management firm which provides personal financial planning and investment services. We also have expertise in helping clients going through divorce.
X-ALT-DESC;FMTTYPE=text/html:Join the Sausalito Chamber of Commerce<br />\nat the October Mixer<br />\nhosted by<br />\n<strong>Lumina Financial Consultants\, LLC</strong><br />\n<br />\n<strong>Come Mix and Mingle\, Network\, Great Raffle prizes!</strong><br />\n<br />\nAbout Lumina Financial:<br />\nLumina Financial Consultants is a boutique wealth management firm which provides personal financial planning and investment services. We also have expertise in helping clients going through divorce.
LOCATION:1505 Bridgeway\, Suite 121 Sausalito\, CA 94965
UID:e.1780.1807
SEQUENCE:3
DTSTAMP:20260424T111708Z
URL:http://business.sausalito.org/events/details/chamber-mixer-lumina-financial-1807
END:VEVENT

END:VCALENDAR
