BEGIN:VCALENDAR
VERSION:2.0
PRODID:-//ChamberMaster//Event Calendar 2.0//EN
METHOD:PUBLISH
X-PUBLISHED-TTL:P3D
REFRESH-INTERVAL:P3D
CALSCALE:GREGORIAN
BEGIN:VEVENT
DTSTART:20231020T003000Z
DTEND:20231020T020000Z
X-MICROSOFT-CDO-ALLDAYEVENT:FALSE
SUMMARY:Chamber Mixer - Hosted by Marin City CDC
DESCRIPTION:Sausalito Chamber Mixer hosted by the Marin City CDC. Join other Chamber members\, enjoy an evening of networking and catching up.\n\nEstablished 1979\, the Marin City Community Development Corporation (MCCDC) came together to address the growing disparity between the small community of Marin City and Marin County. \n\n \n\nSince then\, MCCDC has become the employment experts for the Marin City\, Marin County\, and beyond. Our mission is to enhance community development and economic self-sufficiency through employment services\, mental health\, and financial education.\n\n \n\nThe goal of the MCCDC is to prepare and empower lower income and less advantaged individuals for the workforce and long-term economic self-sufficiency.\n\n\n\n* * *\n\n\n\nHOST A MIXER\n\nChamber Mixers are held on the 3rd Thursday of the month. Mixers are an opportunity for both Chamber and non-Chamber members to meet and network\, in an informal setting.\n\nThe locations of the Mixers vary each month. Check our Event Calendar for set meeting locations. Hosting a Mixer is a great opportunity to showcase you business. We have already scheduled our locations for the upcoming year\, but if you are interested in being a host\, please contact the Chamber at 415-331-7262 or email chamber@sausalito.org
X-ALT-DESC;FMTTYPE=text/html:<p><span style="font-size:14px\;"><span style="font-family:arial\;">Sausalito Chamber Mixer hosted by the Marin City CDC. Join other Chamber members\, enjoy an evening of networking and catching up.</span></span></p>\n\n<div><span style="font-size:14px\;"><span style="font-family:arial\;"><span style="color: rgb(var(--color_15))\; text-decoration: none\;">Established 1979\, the Marin City Community Development Corporation (MCCDC) came together to address the growing disparity between the small community of Marin City and Marin County.&nbsp\;</span></span></span></div>\n\n<div><span style="font-size:14px\;"><span style="font-family:arial\;"><span style="color: rgb(var(--color_15))\; text-decoration: none\;">&#8203\;</span></span></span></div>\n\n<div><span style="font-size:14px\;"><span style="font-family:arial\;"><span style="color: rgb(var(--color_15))\; text-decoration: none\;">Since then\, MCCDC has become the employment experts for the Marin City\, Marin County\, and beyond. Our mission is to enhance community development and economic self-sufficiency through employment services\, mental health\, and financial education.</span></span></span></div>\n\n<div><span style="font-size:14px\;"><span style="font-family:arial\;"><span style="color: rgb(var(--color_15))\; text-decoration: none\;">&#8203\;</span><br />\n<span style="color: rgb(var(--color_15))\; text-decoration: none\;">The goal of the MCCDC is to prepare and empower lower income and less advantaged individuals for the workforce and long-term economic self-sufficiency.</span></span></span></div>\n\n<p><br />\n<span style="font-size:14px\;"><span style="font-family:arial\;">* * *<br />\n<br />\nHOST A MIXER<br />\nChamber Mixers are held on the 3rd&nbsp\;Thursday of the month. Mixers are an opportunity for both Chamber and non-Chamber members to meet and network\, in an informal setting.<br type="_moz" />\nThe locations of the Mixers vary each month. Check our&nbsp\;<a href="https://www.sausalito.org/events/calendarcatgid/3">Event Calendar</a>&nbsp\;for set meeting locations. Hosting a Mixer is a great opportunity to showcase you business. We have already scheduled our locations for the upcoming year\, but if you are interested in being a host\, please contact the Chamber at 415-331-7262 or email <a href="mailto:chamber@sausalito.org">chamber@sausalito.org</a></span></span><br />\n&nbsp\;</p>\n
LOCATION:441 Drake Avenue Marin City\, CA 94965
UID:e.1780.4051
SEQUENCE:3
DTSTAMP:20260420T083714Z
URL:http://business.sausalito.org/events/details/chamber-mixer-hosted-by-marin-city-cdc-4051
END:VEVENT

END:VCALENDAR
