BEGIN:VCALENDAR
VERSION:2.0
PRODID:-//ChamberMaster//Event Calendar 2.0//EN
METHOD:PUBLISH
X-PUBLISHED-TTL:P3D
REFRESH-INTERVAL:P3D
CALSCALE:GREGORIAN
BEGIN:VEVENT
DTSTART:20171215T013000Z
DTEND:20171215T033000Z
X-MICROSOFT-CDO-ALLDAYEVENT:FALSE
SUMMARY:Chamber Mixer @ Book Passage by the Bay
DESCRIPTION:Congratulate the winners of our Annual Chamber Business Awards at our holiday Mixer co-hosted by the Sausalito Chamber of Commerce.\n\n\n\nSmall Business of the Year: Madrigal Family Winery\n\nLarge Business of the Year: Poggio Trattoria\n\nNew Business of the Year: Book Passage By-The-Bay\n\nVolunteer Business of the Year: Sean & Sonja Saylor\n\nLifetime Achievement Award: JoAnne's Print Shoop\n\n\n\nAdditionally enjoy artisan bites\, great raffle prizes and wonderful networking opportunities. We will find out the hottest trends in books for the holidays.\n\n\n\nFree admission for Members\, Guests $10 (please rsvp)
X-ALT-DESC;FMTTYPE=text/html:<span class="_4n-j _3cht fsl" data-testid="event-permalink-details">Congratulate the winners of our Annual Chamber Business Awards at our holiday Mixer co-hosted by the Sausalito Chamber of Commerce.<br />\n<br />\nSmall Business of the Year: Madrigal Family Winery<br />\nLarge Business of the Year: Poggio Trattoria<br />\nNew Business of the Year: Book Passage By-The-Bay<br />\nVolunteer Business of the Year: Sean &amp\; Sonja Saylor<br />\nLifetime Achievement Award: JoAnne&#39\;s Print Shoop<br />\n<br />\nAdditionally enjoy artisan bites\, great raffle prizes and wonderful networking opportunities. We will find out the hottest trends in books for the holidays.<br />\n<br />\nFree admission for Members\, Guests $10 (please rsvp)</span>
LOCATION:Book Passage by the Bay 100 Bay Street Sausalito
UID:e.1780.342
SEQUENCE:3
DTSTAMP:20260425T035616Z
URL:http://business.sausalito.org/events/details/chamber-mixer-book-passage-by-the-bay-342
END:VEVENT

END:VCALENDAR
