BEGIN:VCALENDAR
VERSION:2.0
PRODID:-//ChamberMaster//Event Calendar 2.0//EN
METHOD:PUBLISH
X-PUBLISHED-TTL:P3D
REFRESH-INTERVAL:P3D
CALSCALE:GREGORIAN
BEGIN:VEVENT
DTSTART:20220126T173000Z
DTEND:20220126T180000Z
X-MICROSOFT-CDO-ALLDAYEVENT:FALSE
SUMMARY:Chamber Mini Series - Topic: Employee Retention Tax Credit
DESCRIPTION:Are you taking full advantage of the ERTC?\n\nTake 30 minutes to find out what you need to do. A representative from Paychex will give a short presentation with plenty of time for questions.\n\nThe Chamber encourages business owners and payroll staff attend. This is the first of several mini-series topics the Sausalito Chamber will bring to our members.\n\nYou must pre-register for this event \n\nhttps://us02web.zoom.us/meeting/register/tZEqd-CsqzgpH9w_lo0Juya3CH6MuBJKByIG \n\n\n\n\n\nAfter registering\, you will receive a confirmation email containing information about joining the meeting.
X-ALT-DESC;FMTTYPE=text/html:<div class="kvgmc6g5 cxmmr5t8 oygrvhab hcukyx3x c1et5uql" style="overflow-wrap: break-word\; margin: 0px\; font-family: &quot\;Segoe UI Historic&quot\;\, &quot\;Segoe UI&quot\;\, Helvetica\, Arial\, sans-serif\; color: rgb(5\, 5\, 5)\; font-size: 15px\; background-color: rgb(255\, 255\, 255)\;">Are you taking full advantage of the ERTC?<br />\nTake 30 minutes to find out what you need to do. A representative from <strong>Paychex</strong> will give a short presentation with plenty of time for questions.<br />\nThe Chamber encourages business owners and payroll staff attend. This is the first of several mini-series topics the Sausalito Chamber will bring to our members.</div>\n\n<div class="cxmmr5t8 oygrvhab hcukyx3x c1et5uql o9v6fnle" style="overflow-wrap: break-word\; margin: 0.5em 0px 0px\; font-family: &quot\;Segoe UI Historic&quot\;\, &quot\;Segoe UI&quot\;\, Helvetica\, Arial\, sans-serif\; color: rgb(5\, 5\, 5)\; font-size: 15px\; background-color: rgb(255\, 255\, 255)\;">You must pre-register for this event&nbsp\;<br />\nhttps://us02web.zoom.us/meeting/register/tZEqd-CsqzgpH9w_lo0Juya3CH6MuBJKByIG&nbsp\;<br />\n<br />\n<br />\nAfter registering\, you will receive a confirmation email containing information about joining the meeting.</div>\n\n<div class="cxmmr5t8 oygrvhab hcukyx3x c1et5uql o9v6fnle" style="overflow-wrap: break-word\; margin: 0.5em 0px 0px\; font-family: &quot\;Segoe UI Historic&quot\;\, &quot\;Segoe UI&quot\;\, Helvetica\, Arial\, sans-serif\; color: rgb(5\, 5\, 5)\; font-size: 15px\; background-color: rgb(255\, 255\, 255)\;">&nbsp\;</div>\n
LOCATION:Via Zoom
UID:e.1780.3477
SEQUENCE:3
DTSTAMP:20260421T190712Z
URL:http://business.sausalito.org/events/details/chamber-mini-series-topic-employee-retention-tax-credit-3477
END:VEVENT

END:VCALENDAR
