BEGIN:VCALENDAR
VERSION:2.0
PRODID:-//ChamberMaster//Event Calendar 2.0//EN
METHOD:PUBLISH
X-PUBLISHED-TTL:P3D
REFRESH-INTERVAL:P3D
CALSCALE:GREGORIAN
BEGIN:VEVENT
DTSTART:20201218T013000Z
DTEND:20201218T030000Z
X-MICROSOFT-CDO-ALLDAYEVENT:FALSE
SUMMARY:Chamber Holiday Mixer
DESCRIPTION:Join us via Zoom for some holiday cheer and the announcements of the Businesses of the Year and Gingerbread House Winners.  Some surprises will be in store for those attending.
X-ALT-DESC;FMTTYPE=text/html:Join us via Zoom for some holiday cheer and the announcements of the Businesses of the Year and Gingerbread House Winners.&nbsp\; Some surprises will be in store for those attending.
LOCATION:via Zoom - Here is the link https://bit.ly/37bK9Z3
UID:e.1780.2803
SEQUENCE:3
DTSTAMP:20260422T174922Z
URL:http://business.sausalito.org/events/details/chamber-holiday-mixer-2803
END:VEVENT

END:VCALENDAR
