BEGIN:VCALENDAR
VERSION:2.0
PRODID:-//ChamberMaster//Event Calendar 2.0//EN
METHOD:PUBLISH
X-PUBLISHED-TTL:P3D
REFRESH-INTERVAL:P3D
CALSCALE:GREGORIAN
BEGIN:VEVENT
DTSTART:20191117T020000Z
DTEND:20191117T070000Z
X-MICROSOFT-CDO-ALLDAYEVENT:FALSE
SUMMARY:Chamber Cocktail Party - Sealabrate Sausalito
DESCRIPTION:Sealabrate Sausalito is the Sausalito Chambers Annual Event \n\n\n\nThis year in partnership with The Marine Mammal Center a cocktail party with over the top hors d'oeuvres will be served\, with signature cocktails and an array of wines. Dancing music will be played throughout the night for your enjoyment and our own Mayor Joe Burns will serve as MC for the evening. Proceeds from the event will go to The Marine Mammal Center rescue & teaching programs and the Sausalito Chamber to continue their program of work on behalf of local business and the community.
X-ALT-DESC;FMTTYPE=text/html:<strong>Sealabrate Sausalito is the Sausalito Chambers Annual Event&nbsp\;</strong><br />\n<br />\nThis year in partnership with The Marine Mammal Center a cocktail party with over the top hors d&rsquo\;oeuvres will be served\, with signature cocktails and an array of wines. Dancing music will be played throughout the night for your enjoyment and our own Mayor Joe Burns will serve as MC for the evening. Proceeds from the event will go to The Marine Mammal Center rescue &amp\; teaching programs and the Sausalito Chamber to continue their program of work on behalf of local business and the community.
LOCATION:The Spinnaker 100 Spinnaker Drive Sausalito\, CA
UID:e.1780.2043
SEQUENCE:3
DTSTAMP:20260423T124716Z
URL:http://business.sausalito.org/events/details/chamber-cocktail-party-sealabrate-sausalito-2043
END:VEVENT

END:VCALENDAR
