BEGIN:VCALENDAR
VERSION:2.0
PRODID:-//ChamberMaster//Event Calendar 2.0//EN
METHOD:PUBLISH
X-PUBLISHED-TTL:P3D
REFRESH-INTERVAL:P3D
CALSCALE:GREGORIAN
BEGIN:VEVENT
DTSTART:20190210T020000Z
DTEND:20190210T060000Z
X-MICROSOFT-CDO-ALLDAYEVENT:FALSE
SUMMARY:Celebrate Sausalito Gala Event
DESCRIPTION:Celebrate Sausalito Gala   Island Style!\n\nJoin us in celebrating Businesses of the Year at the Sausalito Chamber's largest fundraiser of the year. We are shaking things up this year so dress the part\, put on your dancing shoes and join the fun!
X-ALT-DESC;FMTTYPE=text/html:<strong><span style="color:#800080\;">Celebrate Sausalito Gala &ndash\; <em>Island Style!</em></span></strong><br />\n<span>Join us in celebrating Businesses of the Year at the Sausalito Chamber&#39\;s largest fundraiser of the year. We are shaking things up this year so dress the part\, put on your dancing shoes and join the fun!</span><br />\n<br />\n&nbsp\;
LOCATION:Spinnaker Restaurant 100 Spinnaker Drive Sausalito
UID:e.1780.1901
SEQUENCE:3
DTSTAMP:20260424T030851Z
URL:http://business.sausalito.org/events/details/celebrate-sausalito-gala-event-1901
END:VEVENT

END:VCALENDAR
