BEGIN:VCALENDAR
VERSION:2.0
PRODID:-//ChamberMaster//Event Calendar 2.0//EN
METHOD:PUBLISH
X-PUBLISHED-TTL:P3D
REFRESH-INTERVAL:P3D
CALSCALE:GREGORIAN
BEGIN:VEVENT
DTSTART:20190329T230000Z
DTEND:20190330T000000Z
X-MICROSOFT-CDO-ALLDAYEVENT:FALSE
SUMMARY:Celebrate Burlwood Gallery - Re-Opening
DESCRIPTION:Grand Re-Opening at their new location at 749 Bridgeway - let's celebrate with a Chamber Ribbon Cutting.  Stop by and say hello to Ken and his staff at their new location\, and after the Ribbon Cutting have dinner downtown at your favorite restaurant.
X-ALT-DESC;FMTTYPE=text/html:Grand Re-Opening at their new location at 749 Bridgeway - let&#39\;s celebrate with a Chamber Ribbon Cutting.&nbsp\; Stop by and say hello to Ken and his staff at their new location\, and after the Ribbon Cutting have dinner downtown at your favorite restaurant.
LOCATION:749 Bridgeway Sausalito\, CA 94965
UID:e.1780.1943
SEQUENCE:3
DTSTAMP:20260424T012807Z
URL:http://business.sausalito.org/events/details/celebrate-burlwood-gallery-re-opening-1943
END:VEVENT

END:VCALENDAR
