BEGIN:VCALENDAR
VERSION:2.0
PRODID:-//ChamberMaster//Event Calendar 2.0//EN
METHOD:PUBLISH
X-PUBLISHED-TTL:P3D
REFRESH-INTERVAL:P3D
CALSCALE:GREGORIAN
BEGIN:VEVENT
DTSTART:20190303T020000Z
DTEND:20190303T060000Z
X-MICROSOFT-CDO-ALLDAYEVENT:FALSE
SUMMARY:Carnaval in Sausalito
DESCRIPTION:Carnaval is coming to Sausalito as hosted by the Sausalito Lions for their annual fundraiser. \n\n\n\nGuests will enjoy a red-carpet entry into the world of the authentic Carnaval where costumed guests all in masks celebrate this hallowed event. They are greeted with their very own signature Carnaval rum welcome drink\, the musical stylings of Black Cat Zydeco\, and a special warm welcome by the Aquarela Brazilian Dance Ensemble. Guests will savor the authentic Cajun cuisine served by well-known Southern Comfort Kitchen. The night will include fine wines\, rums and beers. Entertainment will include carnival games\, a samba lesson from Aquarela Brazilian Dance Ensemble\, and music by Black Cat Zydeco. The fun and games are FREE all night long with three grand prize drawings with thousands in prizes. This is a true wading\, grazing\, playing and dancing event not to be missed. Tickets are on sale now\, get them before they sell out! Early bird special until January 31.\n\n\n\nFor tickets and information.
X-ALT-DESC;FMTTYPE=text/html:<strong>Carnaval is coming to Sausalito as hosted by the Sausalito Lions for their annual fundraiser. </strong><br />\n<br />\nGuests will enjoy a red-carpet entry into the world of the authentic Carnaval where costumed guests all in masks celebrate this hallowed event. They are greeted with their very own signature Carnaval rum welcome drink\, the musical stylings of Black Cat Zydeco\, and a special warm welcome by the Aquarela Brazilian Dance Ensemble. Guests will savor the authentic Cajun cuisine served by well-known Southern Comfort Kitchen. The night will include fine wines\, rums and beers. Entertainment will include carnival games\, a samba lesson from Aquarela Brazilian Dance Ensemble\, and music by Black Cat Zydeco. The fun and games are FREE all night long with three grand prize drawings with thousands in prizes. This is a true wading\, grazing\, playing and dancing event not to be missed. Tickets are on sale now\, get them before they sell out! Early bird special until January 31.<br />\n<br />\n<a href="https://carnavalsausalito.ezevent.com/">For tickets and information.</a><br />\n&nbsp\;
LOCATION:IDESST Hall 511 Caledonia Street Sausalito\, CA 94965
UID:e.1780.1907
SEQUENCE:3
DTSTAMP:20260424T030839Z
URL:http://business.sausalito.org/events/details/carnaval-in-sausalito-03-02-2019-1907
END:VEVENT

END:VCALENDAR
