BEGIN:VCALENDAR
VERSION:2.0
PRODID:-//ChamberMaster//Event Calendar 2.0//EN
METHOD:PUBLISH
X-PUBLISHED-TTL:P3D
REFRESH-INTERVAL:P3D
CALSCALE:GREGORIAN
BEGIN:VEVENT
DTSTART:20181007T200000Z
DTEND:20181007T220000Z
X-MICROSOFT-CDO-ALLDAYEVENT:FALSE
SUMMARY:Candle Making Workshop
DESCRIPTION:Come explore candle pouring just in time for holiday hosting and gifting! You will learn how to heat soy wax to the right temperature\, then add colors\, fragrances and essential oils to create your own custom candle blends. You will take home one 10-ounce candle in a tumbler with a wooden lid and two smaller candles in glass jars. You can choose from a variety of colors and scents\, some holiday-themed like cinnamon and pine. Or go spooky red or bright orange for Halloween\, or sleek and simple with an all-white candle. Cara will have some extra containers available in case there is time to make more candles.
X-ALT-DESC;FMTTYPE=text/html:Come explore candle pouring just in time for holiday hosting and gifting! You will learn how to heat soy wax to the right temperature\, then add colors\, fragrances and essential oils to create your own custom candle blends. You will take home one 10-ounce candle in a tumbler with a wooden lid and two smaller candles in glass jars. You can choose from a variety of colors and scents\, some holiday-themed like cinnamon and pine. Or go spooky red or bright orange for Halloween\, or sleek and simple with an all-white candle. Cara will have some extra containers available in case there is time to make more candles.
LOCATION:Studio 333 333 Caledonia St.\, Sausalito
UID:e.1780.1841
SEQUENCE:3
DTSTAMP:20260424T111206Z
URL:http://business.sausalito.org/events/details/candle-making-workshop-1841
END:VEVENT

END:VCALENDAR
