BEGIN:VCALENDAR
VERSION:2.0
PRODID:-//ChamberMaster//Event Calendar 2.0//EN
METHOD:PUBLISH
X-PUBLISHED-TTL:P3D
REFRESH-INTERVAL:P3D
CALSCALE:GREGORIAN
BEGIN:VEVENT
DTSTART:20201213T020000Z
DTEND:20201213T030000Z
X-MICROSOFT-CDO-ALLDAYEVENT:FALSE
SUMMARY:CANCELLED ** Sausalito Lighted Boat Parade
DESCRIPTION:The official Sausalito Lighted Boat Parade has been CANCELLED on December 12th  \n\n\n\nSince Sausalito is a fun and festive town has decided to do something fun for the remainder of December for all you Boaters! Submit a photo(s) of your decorated boat thru the end of December to the WINTERFEST SAUSALITO Facebook page also tag us at: #sausalitolightedboatparade2020\n\n\n\nThe first 40 pictures submitted will receive our famous collectors Plaque!\n\n\n\nAt the end of December we will compile all the entries\, and our judges will choose their favorite boat for a prize!\n\n\n\nPlease note: Cancellation is due to the new Stay In Place Order issued by Governor Newsom related to the Covid-19 Pandemic which goes in to effect on Tuesday\, December 8th in Marin County. \n\n\n\n#SAUSALITOLIGHTEDBOATPARADE2020
X-ALT-DESC;FMTTYPE=text/html:<div data-contents="true">\n<div data-block="true" data-editor="3sotc" data-offset-key="88n40-0-0">\n<div class="_1mf _1mj" data-offset-key="88n40-0-0"><span><span data-offset-key="88n40-0-0"><span data-text="true">The</span></span></span><span data-offset-key="88n40-1-0"><span data-text="true"> official Sausalito Lighted Boat Parade has been CANCELLED on December 12th &#128546\;<br />\n<br />\nSince Sausalito is a fun and festive town has decided to do something fun for the remainder of December for all you Boaters! Submit a photo(s) of your decorated boat thru the end of December to the WINTERFEST SAUSALITO Facebook page also tag us at: </span></span><span class="diy96o5h" start="333"><span data-offset-key="88n40-2-0"><span data-text="true">#sausalitolightedboatparade2020</span></span></span><br />\n<br />\n<span data-offset-key="88n40-3-0"><span data-text="true">The first 40 pictures submitted will receive our famous collectors Plaque!<br />\n<br />\nAt the end of December we will compile all the entries\, and our judges will choose their favorite boat for a prize!<br />\n<br />\nPlease note: Cancellation is due to the new Stay In Place Order issued by Governor Newsom related to the Covid-19 Pandemic which goes in to effect on Tuesday\, December 8th in Marin County. </span></span><br />\n<br />\n<span class="diy96o5h" start="1166"><span data-offset-key="88n40-34-0"><span data-text="true">#SAUSALITOLIGHTEDBOATPARADE2020</span></span></span><span data-offset-key="88n40-35-0"><span data-text="true"> </span></span></div>\n</div>\n</div>\n
LOCATION:Sausalito waterfront.
UID:e.1780.2801
SEQUENCE:3
DTSTAMP:20260422T174906Z
URL:http://business.sausalito.org/events/details/cancelled-sausalito-lighted-boat-parade-2801
END:VEVENT

END:VCALENDAR
