BEGIN:VCALENDAR
VERSION:2.0
PRODID:-//ChamberMaster//Event Calendar 2.0//EN
METHOD:PUBLISH
X-PUBLISHED-TTL:P3D
REFRESH-INTERVAL:P3D
CALSCALE:GREGORIAN
BEGIN:VEVENT
DTSTART:20190309T023000Z
DTEND:20190309T043000Z
X-MICROSOFT-CDO-ALLDAYEVENT:FALSE
SUMMARY:Cancelled—Outdoor Movie Night
DESCRIPTION:Watch for rescheduling. Cancelled due to weather.\n\n\n\nThe City of Sausalito is holding an Outdoor Movie Night at Gabrielson Park on Friday March 8 at 6:30pm. Come out and see TOP GUN by the bay and under the stars. Air force uniforms\, sunglasses\, lawn chairs and blankets are welcome. City staff will be manning the popcorn machine and it will sure to be a great night out!
X-ALT-DESC;FMTTYPE=text/html:Watch for rescheduling. Cancelled due to weather.<br />\n<br />\nThe City of Sausalito is holding an Outdoor Movie Night at Gabrielson Park on Friday March 8 at 6:30pm. Come out and see TOP GUN by the bay and under the stars. Air force uniforms\, sunglasses\, lawn chairs and blankets are welcome. City staff will be manning the popcorn machine and it will sure to be a great night out!
LOCATION:Gabrielson Park
UID:e.1780.1908
SEQUENCE:3
DTSTAMP:20260424T012449Z
URL:http://business.sausalito.org/events/details/cancelled-outdoor-movie-night-1908
END:VEVENT

END:VCALENDAR
