BEGIN:VCALENDAR
VERSION:2.0
PRODID:-//ChamberMaster//Event Calendar 2.0//EN
METHOD:PUBLISH
X-PUBLISHED-TTL:P3D
REFRESH-INTERVAL:P3D
CALSCALE:GREGORIAN
BEGIN:VEVENT
DTSTART:20200328T200000Z
DTEND:20200328T210000Z
X-MICROSOFT-CDO-ALLDAYEVENT:FALSE
SUMMARY:CANCELED - Trekking the Model
DESCRIPTION:Join a Ranger or docent on a guided tour of the Bay Model\, a 1.5-acre hydraulic model of the San Francisco Bay and Delta. Discover the stories of the two major operations that took place at this location between 1942  2000.
X-ALT-DESC;FMTTYPE=text/html:Join a Ranger or docent on a guided tour of the Bay Model\, a 1.5-acre hydraulic model of the San Francisco Bay and Delta. Discover the stories of the two major operations that took place at this location between 1942 &ndash\;2000.
LOCATION:Bay Model Visitor Center 2100 Bridgeway Sausalito\, CA 94965 415-289-3007 www.spn.usace.army.mil/Missions/Recreation/Bay-Model-Visitor-Center/
UID:e.1780.2377
SEQUENCE:3
DTSTAMP:20260423T082252Z
URL:http://business.sausalito.org/events/details/canceled-trekking-the-model-03-28-2020-2377
END:VEVENT

END:VCALENDAR
