BEGIN:VCALENDAR
VERSION:2.0
PRODID:-//ChamberMaster//Event Calendar 2.0//EN
METHOD:PUBLISH
X-PUBLISHED-TTL:P3D
REFRESH-INTERVAL:P3D
CALSCALE:GREGORIAN
BEGIN:VEVENT
DTSTART:20200322T010000Z
DTEND:20200322T050000Z
X-MICROSOFT-CDO-ALLDAYEVENT:FALSE
SUMMARY:CANCELED - SWC Low Jinks
DESCRIPTION:Sausalito Woman's Club Low Jinks Performance
X-ALT-DESC;FMTTYPE=text/html:Sausalito Woman&#39\;s Club Low Jinks Performance
LOCATION:120 Central Avenue Sausalito\, CA 94965
UID:e.1780.2018
SEQUENCE:3
DTSTAMP:20260423T065053Z
URL:http://business.sausalito.org/events/details/canceled-swc-low-jinks-2018
END:VEVENT

END:VCALENDAR
