BEGIN:VCALENDAR
VERSION:2.0
PRODID:-//ChamberMaster//Event Calendar 2.0//EN
METHOD:PUBLISH
X-PUBLISHED-TTL:P3D
REFRESH-INTERVAL:P3D
CALSCALE:GREGORIAN
BEGIN:VEVENT
DTSTART:20200318T020000Z
DTEND:20200318T050000Z
X-MICROSOFT-CDO-ALLDAYEVENT:FALSE
SUMMARY:CANCELED - SWC Jinks Dress Rehearsal
DESCRIPTION:Sausalito Woman's Club Jinks Dress Rehearsal Perfomance
X-ALT-DESC;FMTTYPE=text/html:Sausalito Woman&#39\;s Club Jinks Dress Rehearsal Perfomance
LOCATION:Sausalito Woman's Club 120 Central Avenue Sausalito\, CA 94965
UID:e.1780.2020
SEQUENCE:3
DTSTAMP:20260423T065256Z
URL:http://business.sausalito.org/events/details/canceled-swc-jinks-dress-rehearsal-2020
END:VEVENT

END:VCALENDAR
