BEGIN:VCALENDAR
VERSION:2.0
PRODID:-//ChamberMaster//Event Calendar 2.0//EN
METHOD:PUBLISH
X-PUBLISHED-TTL:P3D
REFRESH-INTERVAL:P3D
CALSCALE:GREGORIAN
BEGIN:VEVENT
DTSTART:20200321T200000Z
DTEND:20200321T230000Z
X-MICROSOFT-CDO-ALLDAYEVENT:FALSE
SUMMARY:CANCELED - Saturdays in the Garden
DESCRIPTION:Interested in learning more about the Bay Model waterfront? Stop by the Native Plant Garden on Saturdays to enjoy the garden and learn the latest about natural resources and recreational opportunities on Richardson Bay. Be sure to visit us on these Saturday afternoons for special activities.
X-ALT-DESC;FMTTYPE=text/html:Interested in learning more about the Bay Model waterfront? Stop by the Native Plant Garden on Saturdays to enjoy the garden and learn the latest about natural resources and recreational opportunities on Richardson Bay. Be sure to visit us on these Saturday afternoons for special activities.
LOCATION:Bay Model Visitor Center 2100 Bridgeway Sausalito\, CA 94965 415-289-3007 www.spn.usace.army.mil/Missions/Recreation/Bay-Model-Visitor-Center/
UID:e.1780.2380
SEQUENCE:3
DTSTAMP:20260423T082257Z
URL:http://business.sausalito.org/events/details/canceled-saturdays-in-the-garden-2380
END:VEVENT

END:VCALENDAR
