BEGIN:VCALENDAR
VERSION:2.0
PRODID:-//ChamberMaster//Event Calendar 2.0//EN
METHOD:PUBLISH
X-PUBLISHED-TTL:P3D
REFRESH-INTERVAL:P3D
CALSCALE:GREGORIAN
BEGIN:VEVENT
DTSTART:20200320T003000Z
DTEND:20200320T023000Z
X-MICROSOFT-CDO-ALLDAYEVENT:FALSE
SUMMARY:CANCELED - Chamber Mixer @ Tivoli
DESCRIPTION:Chamber Networking Mixer at Tivoli - 333 Caledonia Street.
X-ALT-DESC;FMTTYPE=text/html:Chamber Networking Mixer at Tivoli - 333 Caledonia Street.
LOCATION:
UID:e.1780.2365
SEQUENCE:3
DTSTAMP:20260423T065249Z
URL:http://business.sausalito.org/events/details/canceled-chamber-mixer-tivoli-2365
END:VEVENT

END:VCALENDAR
