BEGIN:VCALENDAR
VERSION:2.0
PRODID:-//ChamberMaster//Event Calendar 2.0//EN
METHOD:PUBLISH
X-PUBLISHED-TTL:P3D
REFRESH-INTERVAL:P3D
CALSCALE:GREGORIAN
BEGIN:VEVENT
DTSTART:20220520T000000Z
DTEND:20220520T020000Z
X-MICROSOFT-CDO-ALLDAYEVENT:FALSE
SUMMARY:CANCALLED - Dockside Chamber Mixer -Host: Freda B
DESCRIPTION:We apologize for the last minute cancellation of the mixer.
X-ALT-DESC;FMTTYPE=text/html:We apologize for the last minute cancellation of the mixer.&nbsp\;&nbsp\;
LOCATION:Dockside at the Freda B
UID:e.1780.3454
SEQUENCE:3
DTSTAMP:20260421T114750Z
URL:http://business.sausalito.org/events/details/cancalled-dockside-chamber-mixer-host-freda-b-3454
END:VEVENT

END:VCALENDAR
