BEGIN:VCALENDAR
VERSION:2.0
PRODID:-//ChamberMaster//Event Calendar 2.0//EN
METHOD:PUBLISH
X-PUBLISHED-TTL:P3D
REFRESH-INTERVAL:P3D
CALSCALE:GREGORIAN
BEGIN:VEVENT
DTSTART:20190609T000000Z
DTEND:20190609T050000Z
X-MICROSOFT-CDO-ALLDAYEVENT:FALSE
SUMMARY:Call of the Sea's Annual Gala
DESCRIPTION:Come celebrate the new tall ship Matthew Turner and on-the-water experiential education under sail. Purchase tickets at www.callofthesea.org/gala2019 Tickets $125 includes a tour of our sailing vessels and a party at the Bay Model with food\, music\, libations\, 'live and silent auction'\, and much more.
X-ALT-DESC;FMTTYPE=text/html:Come celebrate the new tall ship Matthew Turner and on-the-water experiential education under sail. Purchase tickets at www.callofthesea.org/gala2019 Tickets $125 includes a tour of our sailing vessels and a party at the Bay Model with food\, music\, libations\, &lsquo\;live and silent auction&rsquo\;\, and much more.
LOCATION:Bay Model Visitor Center 2100 Bridgeway Sausalito\, CA 94965 415-332-3871
UID:e.1780.1987
SEQUENCE:3
DTSTAMP:20260423T203732Z
URL:http://business.sausalito.org/events/details/call-of-the-sea-s-annual-gala-1987
END:VEVENT

END:VCALENDAR
