BEGIN:VCALENDAR
VERSION:2.0
PRODID:-//ChamberMaster//Event Calendar 2.0//EN
METHOD:PUBLISH
X-PUBLISHED-TTL:P3D
REFRESH-INTERVAL:P3D
CALSCALE:GREGORIAN
BEGIN:VEVENT
DTSTART:20190411T153000Z
DTEND:20190411T170000Z
X-MICROSOFT-CDO-ALLDAYEVENT:FALSE
SUMMARY:California Labor Law Workshop
DESCRIPTION:Labor Law Workshop to discuss new labor laws that could affect your business. \n\nTopics Include:\n\n1099 Employee vs W2 Employee\n\nWorkplace Harassment\n\nExempt or Non-Exempt Employees\n\nOvertime Laws\n\nWorkplace Retaliation\n\n\n\n2019 Labor Law Posters will be provided to all attendees.
X-ALT-DESC;FMTTYPE=text/html:Labor Law Workshop to discuss new labor laws that could affect your business.&nbsp\;<br />\nTopics Include:<br />\n1099 Employee vs W2 Employee<br />\nWorkplace Harassment<br />\nExempt or Non-Exempt Employees<br />\nOvertime Laws<br />\nWorkplace Retaliation<br />\n<br />\n2019 Labor Law Posters will be provided to all attendees.
LOCATION:Edgewater Room - City Hall 420 Litho Street
UID:e.1780.1931
SEQUENCE:3
DTSTAMP:20260423T234934Z
URL:http://business.sausalito.org/events/details/california-labor-law-workshop-1931
END:VEVENT

END:VCALENDAR
