BEGIN:VCALENDAR
VERSION:2.0
PRODID:-//ChamberMaster//Event Calendar 2.0//EN
METHOD:PUBLISH
X-PUBLISHED-TTL:P3D
REFRESH-INTERVAL:P3D
CALSCALE:GREGORIAN
BEGIN:VEVENT
DTSTART:20190921T160000Z
DTEND:20190921T190000Z
X-MICROSOFT-CDO-ALLDAYEVENT:FALSE
SUMMARY:California Coastal Cleanup Day - Marin County
DESCRIPTION:California Coastal Cleanup Day is celebrating its 35th year! Join others around the State to make a difference keeping our beaches\, waterways\, and parks clean. With over 40 cleanup sites in Marin County\, check the Bay Model website for a volunteer opportunity near you.
X-ALT-DESC;FMTTYPE=text/html:California Coastal Cleanup Day is celebrating its 35th year! Join others around the State to make a difference keeping our beaches\, waterways\, and parks clean. With over 40 cleanup sites in Marin County\, check the Bay Model website for a volunteer opportunity near you.
LOCATION:Bay Model Visitor Center 2100 Bridgeway Sausalito\, CA 94965 415-332-3871 https://www.spn.usace.army.mil/Missions/Recreation/Bay-Model-Visitor-Center/
UID:e.1780.2009
SEQUENCE:3
DTSTAMP:20260423T154117Z
URL:http://business.sausalito.org/events/details/california-coastal-cleanup-day-marin-county-2009
END:VEVENT

END:VCALENDAR
