BEGIN:VCALENDAR
VERSION:2.0
PRODID:-//ChamberMaster//Event Calendar 2.0//EN
METHOD:PUBLISH
X-PUBLISHED-TTL:P3D
REFRESH-INTERVAL:P3D
CALSCALE:GREGORIAN
BEGIN:VEVENT
DTSTART;VALUE=DATE:20200806
DTEND;VALUE=DATE:20200807
TRANSP:TRANSPARENT
X-MICROSOFT-CDO-ALLDAYEVENT:TRUE
SUMMARY:Caledonia Street Outdoor Dining
DESCRIPTION:Outdoor Dining on Caledonia Street continues this summer. Weather permitting\, temporary on-street dining is now available along Caledonia Street's "restaurant row" for dinner on Thursdays and lunch and dinner on Fridays\, Saturdays\, and Sundays.
X-ALT-DESC;FMTTYPE=text/html:Outdoor Dining on Caledonia Street continues this summer. Weather permitting\, temporary on-street dining is now available along Caledonia Street&#39\;s &quot\;restaurant row&quot\; for dinner on Thursdays and lunch and dinner on Fridays\, Saturdays\, and Sundays.
LOCATION:Street map
UID:e.1780.2476
SEQUENCE:3
DTSTAMP:20260422T235822Z
URL:http://business.sausalito.org/events/details/caledonia-street-outdoor-dining-08-06-2020-2476
END:VEVENT

END:VCALENDAR
