BEGIN:VCALENDAR
VERSION:2.0
PRODID:-//ChamberMaster//Event Calendar 2.0//EN
METHOD:PUBLISH
X-PUBLISHED-TTL:P3D
REFRESH-INTERVAL:P3D
CALSCALE:GREGORIAN
BEGIN:VEVENT
DTSTART:20200213T170000Z
DTEND:20200213T180000Z
X-MICROSOFT-CDO-ALLDAYEVENT:FALSE
SUMMARY:Caledonia Street Merchants Meeting
DESCRIPTION:Caledonia Street Merchants meeting to discuss ideas for 2020\n\n\n\nTopics:\n\n	Parking Time Changes - Progress Report\n	Possible Event\n	Signage for Caledonia
X-ALT-DESC;FMTTYPE=text/html:Caledonia Street Merchants meeting to discuss ideas for 2020<br />\n<br />\nTopics:\n<ul>\n	<li>Parking Time Changes - Progress Report</li>\n	<li>Possible Event</li>\n	<li>Signage for Caledonia</li>\n</ul>\n
LOCATION:Equator Coffee (former CIBO) 1201 A Bridgeway Sausalito\, CA 94965
UID:e.1780.2358
SEQUENCE:3
DTSTAMP:20260423T082450Z
URL:http://business.sausalito.org/events/details/caledonia-street-merchants-meeting-2358
END:VEVENT

END:VCALENDAR
