BEGIN:VCALENDAR
VERSION:2.0
PRODID:-//ChamberMaster//Event Calendar 2.0//EN
METHOD:PUBLISH
X-PUBLISHED-TTL:P3D
REFRESH-INTERVAL:P3D
CALSCALE:GREGORIAN
BEGIN:VEVENT
DTSTART:20190430T160000Z
DTEND:20190430T170000Z
X-MICROSOFT-CDO-ALLDAYEVENT:FALSE
SUMMARY:Caledonia Street Merchants Meeting
DESCRIPTION:Join the Chamber for a round-table discussion.\n\nReport from sub-committees:  Signage\, Parking & City Ordinances.\n\nPossible Street Event or Pop-up\n\n\n\nEveryone working together will bring a great many ideas.
X-ALT-DESC;FMTTYPE=text/html:<span style="color: rgb(51\, 51\, 51)\; font-family: sans-serif\, Arial\, Verdana\, &quot\;Trebuchet MS&quot\;\; font-size: 13px\; background-color: rgb(255\, 255\, 255)\;">Join the Chamber for a round-table discussion.<br />\nReport from sub-committees:&nbsp\; Signage\, Parking &amp\; City Ordinances.<br />\nPossible Street Event or Pop-up<br />\n<br />\nEveryone working together will bring a great many ideas.</span>
LOCATION:Driver's Market
UID:e.1780.1965
SEQUENCE:3
DTSTAMP:20260423T235226Z
URL:http://business.sausalito.org/events/details/caledonia-street-merchants-meeting-1965
END:VEVENT

END:VCALENDAR
