BEGIN:VCALENDAR
VERSION:2.0
PRODID:-//ChamberMaster//Event Calendar 2.0//EN
METHOD:PUBLISH
X-PUBLISHED-TTL:P3D
REFRESH-INTERVAL:P3D
CALSCALE:GREGORIAN
BEGIN:VEVENT
DTSTART:20181207T000000Z
DTEND:20181207T040000Z
X-MICROSOFT-CDO-ALLDAYEVENT:FALSE
SUMMARY:Caledonia Street Late Night Shopping
DESCRIPTION:Caledonia Street Open House & Late Night Shopping
X-ALT-DESC;FMTTYPE=text/html:<div style="text-align: center\;"><strong>Caledonia Street Open House &amp\; Late Night Shopping</strong></div>\n\n<div style="text-align: center\;">&nbsp\;</div>\n
LOCATION:Merchants open late downtown for Holiday Shopping. Watch for details!
UID:e.1780.1863
SEQUENCE:3
DTSTAMP:20260424T091653Z
URL:http://business.sausalito.org/events/details/caledonia-street-late-night-shopping-1863
END:VEVENT

END:VCALENDAR
